BEGIN:VCALENDAR
VERSION:2.0
PRODID:-//ical.marudot.com//iCal Event Maker
CALSCALE:GREGORIAN
BEGIN:VTIMEZONE
TZID:Europe/Prague
LAST-MODIFIED:20230407T050750Z
TZURL:https://www.tzurl.org/zoneinfo-outlook/Europe/Prague
X-LIC-LOCATION:Europe/Prague
BEGIN:DAYLIGHT
TZNAME:CEST
TZOFFSETFROM:+0100
TZOFFSETTO:+0200
DTSTART:19700329T020000
RRULE:FREQ=YEARLY;BYMONTH=3;BYDAY=-1SU
END:DAYLIGHT
BEGIN:STANDARD
TZNAME:CET
TZOFFSETFROM:+0200
TZOFFSETTO:+0100
DTSTART:19701025T030000
RRULE:FREQ=YEARLY;BYMONTH=10;BYDAY=-1SU
END:STANDARD
END:VTIMEZONE
BEGIN:VEVENT
DTSTAMP:20240107T182820Z
UID:1704651606994-29946@ical.marudot.com
DTSTART;TZID=Europe/Prague:20240109T190000
RRULE:FREQ=MONTHLY;BYDAY=2TU
DTEND;TZID=Europe/Prague:20240109T230000
SUMMARY:Oldschool-Slo "Drugi torek"
URL:http://oldschool-slo.com
LOCATION:Park Žibert
BEGIN:VALARM
ACTION:DISPLAY
DESCRIPTION:Oldschool-Slo "Drugi torek"
TRIGGER:-PT1H
END:VALARM
END:VEVENT
END:VCALENDAR